BEGIN:VCALENDAR
VERSION:2.0
PRODID:-//Saint John Naturalists Club - ECPv6.15.20//NONSGML v1.0//EN
CALSCALE:GREGORIAN
METHOD:PUBLISH
X-WR-CALNAME:Saint John Naturalists Club
X-ORIGINAL-URL:https://saintjohnnaturalistsclub.org
X-WR-CALDESC:Events for Saint John Naturalists Club
REFRESH-INTERVAL;VALUE=DURATION:PT1H
X-Robots-Tag:noindex
X-PUBLISHED-TTL:PT1H
BEGIN:VTIMEZONE
TZID:America/Halifax
BEGIN:DAYLIGHT
TZOFFSETFROM:-0400
TZOFFSETTO:-0300
TZNAME:ADT
DTSTART:20250309T060000
END:DAYLIGHT
BEGIN:STANDARD
TZOFFSETFROM:-0300
TZOFFSETTO:-0400
TZNAME:AST
DTSTART:20251102T050000
END:STANDARD
BEGIN:DAYLIGHT
TZOFFSETFROM:-0400
TZOFFSETTO:-0300
TZNAME:ADT
DTSTART:20260308T060000
END:DAYLIGHT
BEGIN:STANDARD
TZOFFSETFROM:-0300
TZOFFSETTO:-0400
TZNAME:AST
DTSTART:20261101T050000
END:STANDARD
BEGIN:DAYLIGHT
TZOFFSETFROM:-0400
TZOFFSETTO:-0300
TZNAME:ADT
DTSTART:20270314T060000
END:DAYLIGHT
BEGIN:STANDARD
TZOFFSETFROM:-0300
TZOFFSETTO:-0400
TZNAME:AST
DTSTART:20271107T050000
END:STANDARD
END:VTIMEZONE
BEGIN:VEVENT
DTSTART;TZID=America/Halifax:20260424T200000
DTEND;TZID=America/Halifax:20260424T220000
DTSTAMP:20260422T115423
CREATED:20260408T102818Z
LAST-MODIFIED:20260408T102818Z
UID:3023-1777060800-1777068000@saintjohnnaturalistsclub.org
SUMMARY:An Amphibian Adventure (Members Only)
DESCRIPTION:Event is limited to 12 participants who are current members of the Saint John Naturalists Club. \nRegistration is now full.\n  \nGuided evening walk exploring amphibians in their natural habitats\nLearn to identify local frogs\, toads\, and salamanders by sight and sound\nExpert insights from NB Museum staff on amphibian behavior\, ecology\, and conservation\nHands-on opportunities to observe these species up close \n  \n 
URL:https://saintjohnnaturalistsclub.org/event/an-amphibian-adventure/
CATEGORIES:Nature Walk
ATTACH;FMTTYPE=image/png:https://saintjohnnaturalistsclub.org/wp-content/uploads/2026/04/Amphibian-Adventure.png
ORGANIZER;CN="Saint John Naturalists Club":MAILTO:info@saintjohnnaturalistsclub.org
END:VEVENT
END:VCALENDAR